BEGIN:VCALENDAR
VERSION:2.0
METHOD:PUBLISH
BEGIN:VEVENT
UID:WILD_APRICOT_EVENT_2727779_SESSION_1
DTSTART:20171110T230000Z
DTEND:20171111T040000Z
SUMMARY:Rolfe Classic BMW Motorrad Open Day
LOCATION:Rolfe Classic BMW\, 2 Botany Street Phillip ACT
DESCRIPTION:https://www.bmwmccact.org.au/event-2727779\n\nCome along to Rolfe Classic BMW open day and join in the BMW Germany designer talk\, meet a brand ambassador\, check out the rare Z8 on display or make use of the free coffee van\, face painting\, gold coin donation BBQ plus 20% off stock rider wear and accessories.\n  Michael and Brett will be on hand to close that special deal on your next new BMW.\n  Contact the showroom direct on +61 (2) 6208 4137 or checkout the website rolfeclassicmotorcycles.bmw.com.au.\n
DTSTAMP:20260424T184732Z
END:VEVENT
END:VCALENDAR
