BEGIN:VCALENDAR
VERSION:2.0
METHOD:PUBLISH
BEGIN:VEVENT
UID:WILD_APRICOT_EVENT_2677471_SESSION_1
DTSTART:20171103T230000Z
DTEND:20171105T060000Z
SUMMARY:Trials Club Canberra\, Open Competition - Spectators Welcome
LOCATION:428 Top Naas Road\, 428 Top Naas Road
DESCRIPTION:https://www.bmwmccact.org.au/event-2677471\n\n    2 Day 'Scottish Style' Open trial. This trial will be open to all competitors that hold a MA Licence More detail to follow closer to the event\n    428 Top Naas Road\, 428 Top Naas Road\n   Canberra\, ACT Australia + Google Map.\n    Check the website for details http://trialscanberra.org.au/\n    Spectators are welcome and will need to park and trek up the hill to spectate.\n 
DTSTAMP:20260424T172846Z
END:VEVENT
END:VCALENDAR
