BEGIN:VCALENDAR
VERSION:2.0
METHOD:PUBLISH
BEGIN:VEVENT
UID:WILD_APRICOT_EVENT_2655935_SESSION_1
DTSTART:20170916T003000Z
DTEND:20170916T060000Z
SUMMARY:Motorcycle Accident Management Training - Wagga
LOCATION:Lawson Motor Inn\, Wagga\, NSW
DESCRIPTION:https://www.bmwmccact.org.au/event-2655935\n\nLive in Wagga or would like to ride to Wagga and attend a 1/2 day motorcycle specific first aid training on Saturday 16 September 2017?\n  Then Roger France and team will be in Wagga and running a RMS subsidised first aid training course for motorcyclists. If you are a BMWMCCACT financial member then with your $50 (max) subsidy\, you will be going along for free.\n  You need book online beforehand\, so check the FAfM website or read/click the poster or contact Roger on 0427 464 266.\n   \n  This is not a BMWMCCACT organised event and provided as general information to members and community.\n
DTSTAMP:20260424T172836Z
END:VEVENT
END:VCALENDAR
