BEGIN:VCALENDAR
VERSION:2.0
METHOD:PUBLISH
BEGIN:VEVENT
UID:WILD_APRICOT_EVENT_2649917_SESSION_1
DTSTART:20170929T020000Z
DTEND:20171001T010000Z
SUMMARY:2017 Scrapheap Adventure Ride
LOCATION:Green Valley Farm\, Tingha\, North Western NSW
DESCRIPTION:https://www.bmwmccact.org.au/event-2649917\n\nThe Scrapheap Adventure Ride is a unique fundraising event which involves motorcycle enthusiasts from all over the country purchasing a bike for no more than $1000 and doing it up for an adventure ride through the Aussie outback\, all while raising money for people with Down syndrome.\n  This year that destination is Green Valley Farm\, Tingha\, in North Western NSW\, where all ‘Scrappers’ plus family and friends will meet for a weekend of fun and entertainment at a campsite from September 29 to October 1.\n  Check the website for details and register http://www.scrapheapadventureride.com.au/.\n
DTSTAMP:20260424T170359Z
END:VEVENT
END:VCALENDAR
