BEGIN:VCALENDAR
VERSION:2.0
METHOD:PUBLISH
BEGIN:VEVENT
UID:WILD_APRICOT_EVENT_2646726_SESSION_1
DTSTART:20171028T220000Z
DTEND:20171028T220000Z
SUMMARY:BMWMCCACT October General Meeting & Ride (Club Event)
LOCATION:The Spit Shack\, 22 Beltana Rd\, Pialligo ACT 2609
DESCRIPTION:https://www.bmwmccact.org.au/event-2646726\n\nSunday Meeting\n  October's General Club Meeting will be at The Spit Shack 22 Beltana Road Pialligo.\n  \n  After the meet there will be a ride to Wakefield Park to watch the last couple of hours of the 24 Hours of Lemons Endurance Race.  Max of $1000/car and check out the Rules here or click on the logo.\n  Wakefield Park may have a spectator entry fee (unknown @ 25 Aug 17).\n  \n   \n   \n
DTSTAMP:20260424T172825Z
END:VEVENT
END:VCALENDAR
