BEGIN:VCALENDAR
VERSION:2.0
METHOD:PUBLISH
BEGIN:VEVENT
UID:WILD_APRICOT_EVENT_2630016_SESSION_1
DTSTART:20170922T003000Z
DTEND:20170922T033000Z
SUMMARY:Defence Long Ride\, Show & Shine
LOCATION:Blamey Square\, Russell Offices Canberra
DESCRIPTION:https://www.bmwmccact.org.au/event-2630016\n\nAs a precursor to the Defence Long ride there will be a show and shine event in Blamey Square Russell Offices.  CDF will be the judge and raffle tickets for sale to raise money for Prostate Cancer Research & Men's Health.\n      *             Best bike\, one prize will be a $200 gift voucher.          \n\n  Raffle prizes include:\n      *             Hisense 55” HiDef TV ($1699)        \n\n        * Hisense 435L Fridge ($1099)\n\n        * MONT tent and Sleeping Bag ($1089)\n\n        * Air Force Balloon Flight ($760)\n\n        * 2 x MotoDNA Training Days ($450ea)\n\n        * Green Machine Adventure Flight ($350)\n\n        * Pirreli Motorcycle Tyre Voucher ($300)\n\n        * HELD Air and Dry Gloves ($300).\n\n  There will also be local motorcycle retailers with a selection of their bikes/gear and other associated motorcycle\, defence and military displays.\n  Need more info\, find them on Facebook Long Ride 2017 Show & Shine.\n  If you want to enter contact Andrea Lanagan  andrea.lanagan@icloud.com / 0421 901 960 or Dion Isaacson dion.isaacson@defence.gov.au.\n
DTSTAMP:20260424T170827Z
END:VEVENT
END:VCALENDAR
