BEGIN:VCALENDAR
VERSION:2.0
METHOD:PUBLISH
BEGIN:VEVENT
UID:WILD_APRICOT_EVENT_2629062_SESSION_1
DTSTART:20170826T003000Z
DTEND:20170826T023000Z
SUMMARY:BMWMCCACT August Monthly General Meeting (Club Event)
LOCATION:Rolfe Classic Motorrad\, 2 Botany St Phillip
DESCRIPTION:https://www.bmwmccact.org.au/event-2629062\n\nSaturday Meeting\n  The August General Club Meeting will be at BMW Rolfe Classic Motorrad (map) in combination with a RnineT talk and opportunity to demo ride one of BMW's latest model variants.\n  \n  A BBQ brunch of sausage sangers and espresso coffee will be on sale for $5 with additional sausages $3 and $2 coffee.\n  Meet from 1030 and the Motorrad sales team will give a talk on the various RnineT models and options at 1100.\n  Want to take a test ride?  Then you need to call the showroom direct on 6208 4133 or email Michael.Andrews@rolfeclassic.com or Brett.Patrick@rolfeclassic.com to book a time beforehand or risk missing out on the day.\n
DTSTAMP:20260424T170627Z
END:VEVENT
END:VCALENDAR
