BEGIN:VCALENDAR
VERSION:2.0
METHOD:PUBLISH
BEGIN:VEVENT
UID:WILD_APRICOT_EVENT_2616936_SESSION_1
DTSTART:20170728T020000Z
DTEND:20170730T050000Z
SUMMARY:2017 Hat Rally\, Wobbly Boot Tourers
LOCATION:Araluen NSW
DESCRIPTION:https://www.bmwmccact.org.au/event-2616936\n\nHeld 23km from Braidwood at the Araluen Creek Campground and 3km from the Araluen Pub.\n  A BYO rally with toilets and firewood on site with a $5 cooked breakfast on Sunday.\n  Camping Cost: $20 - includes a badge & raffle ticket with plenty of awards and prizes on offer.  Including 'best hat'.\n\n  Need more info?  Contact Wobbly Boot Tourers - Chris 0447 256 154 or Pogo 0429 359 710.\n
DTSTAMP:20260424T184238Z
END:VEVENT
END:VCALENDAR
