BEGIN:VCALENDAR
VERSION:2.0
METHOD:PUBLISH
BEGIN:VEVENT
UID:WILD_APRICOT_EVENT_2594493_SESSION_1
DTSTART:20170703T000000Z
DTEND:20170703T000000Z
SUMMARY:Saturday Ride on Monday (Club Event)
LOCATION:Southern Highlands
DESCRIPTION:https://www.bmwmccact.org.au/event-2594493\n\nFor those who missed the Club Saturday breakfast at the Riverside Cafe a ride was planned for Monday 3 July departing Red Rooster Queanbeyan 1000.  Google Map here.\n  Sightseeing to Bungonia Lookdown\, lunch at the Terminus Hotel Marulan\, take in the wind farm at Grabben Gully\, coffee in Gunning and home from Sutton.\n  Weather? 80% chance of showers\; full BOM forecast here.\n
DTSTAMP:20260424T172708Z
END:VEVENT
END:VCALENDAR
