BEGIN:VCALENDAR
VERSION:2.0
METHOD:PUBLISH
BEGIN:VEVENT
UID:WILD_APRICOT_EVENT_2594397_SESSION_1
DTSTART:20170815T090000Z
DTEND:20170815T120000Z
SUMMARY:BMWMCCACT & CDDC Bowling Night (Club Event)
LOCATION:AMF Bowling Belconnen
DESCRIPTION:https://www.bmwmccact.org.au/event-2594397\n\nUpdated 8 August 2017 - You can bring a friend!\n  \n\n  \n\n  \n\n  Come join in a social evening of 10 pin bowling with the Canberra District Ducati Club at the AMF Bowl 1 Emu Bank\, Belconnen.  Google map here.\n\n  Arrive from 1900 to get yourself some shoes and ball to your liking and 1930 start.  You must have approved foot wear.\n  Cost $20 (3 games) + $2 shoe hire.\n  Use the registration form as we need to plan for numbers and currently capped at 20.  You can bring a friend and use the single registration for the total number.\n  Email the President@bmwmccact.org.au if you have any questions.\n
DTSTAMP:20260424T170617Z
END:VEVENT
END:VCALENDAR
