BEGIN:VCALENDAR
VERSION:2.0
METHOD:PUBLISH
BEGIN:VEVENT
UID:WILD_APRICOT_EVENT_2589998_SESSION_1
DTSTART:20170722T010000Z
DTEND:20170722T023000Z
SUMMARY:BMWMCCACT July Monthly General Meeting (Club Event)
LOCATION:Sprout Cafe\, National Arboretum
DESCRIPTION:https://www.bmwmccact.org.au/event-2589998\n\nAn informal July meeting to meet & greet with coffee will be at the Sprout Cafe within the National Arboretum as President and Social Sec. are out of town.\n  Google Map here and if the weather is kind a ride can be organised by those there.\n
DTSTAMP:20260424T190545Z
END:VEVENT
END:VCALENDAR
