BEGIN:VCALENDAR
VERSION:2.0
METHOD:PUBLISH
BEGIN:VEVENT
UID:WILD_APRICOT_EVENT_2589658_SESSION_1
DTSTART:20171201T223000Z
DTEND:20171202T050000Z
SUMMARY:CANCELLED - Day Ride\, Friendly Inn\, Kangaroo Valley for Lunch (Club Event)
LOCATION:Friendly Inn Hotel\, Kangaroo Valley
DESCRIPTION:https://www.bmwmccact.org.au/event-2589658\n\n2 DEC 17 - RAIN (STORM) CANCELLATION\n  Join the Club for a pre-Christmas ride to lunch via Southern Highlands to Kangaroo Valley and Friendly Inn for lunch before returning home via Nerriga.\n  Meet at the Red Rooster Queanbeyan from 0900 for a 0930 departure and clockwise loop of Tarago\, Marulan\, Bundanoon (coffee)\, KV\, Nowra\, M92\, Nerriga\, Tarago & Queanbeyan.  Google Map here.\n\n  Use the registration form an earn yourself some points for the Club Person of the Year.\n  \n\n
DTSTAMP:20260424T170812Z
END:VEVENT
END:VCALENDAR
