BEGIN:VCALENDAR
VERSION:2.0
METHOD:PUBLISH
BEGIN:VEVENT
UID:WILD_APRICOT_EVENT_2570707_SESSION_1
DTSTART:20170609T050000Z
DTEND:20170612T020000Z
SUMMARY:48th Alpine Rally
LOCATION:Yarrangobilly Village Campground\, Snowy Mountains Highway
DESCRIPTION:https://www.bmwmccact.org.au/event-2570707\n\n   The 48th Alpine Rally takes place over the Queen's Birthday long weekend at Yarrangobilly Village Campground\,  on the Snowy Mountains Highway 67km west of Adaminaby or 62km east of Tumut.\n   Check out the flyer for details here or email Henning Jorgensen\, hpj333@gmail.com. 
DTSTAMP:20260424T170741Z
END:VEVENT
END:VCALENDAR
