BEGIN:VCALENDAR
VERSION:2.0
METHOD:PUBLISH
BEGIN:VEVENT
UID:WILD_APRICOT_EVENT_2555903_SESSION_1
DTSTART:20170707T050000Z
DTEND:20170709T040000Z
SUMMARY:2017 Winter Rally\, United Tourers
LOCATION:United Tourers Property\, 4km south of Nerriga NSW
DESCRIPTION:https://www.bmwmccact.org.au/event-2555903\n\nFor the Club's rallying members\, the United Tourers Winter Rally is on again at their property 4km south of Nerriga.  Google Map. \n  Private 50 acres with plenty of camping space\, onsite bar and food available.  $15 prepaid\, $20 at the gate.\n  Web:  www.unitedtourers.com\n Email:  contact@unitedtourers.com\n fb:  www.facebook.com/unitedtourers\n
DTSTAMP:20260424T172611Z
END:VEVENT
END:VCALENDAR
