BEGIN:VCALENDAR
VERSION:2.0
METHOD:PUBLISH
BEGIN:VEVENT
UID:WILD_APRICOT_EVENT_2552351_SESSION_1
DTSTART:20170617T013000Z
DTEND:20170617T040000Z
SUMMARY:Yarrawonga River and Lake Cruise - Christmas in Winter
LOCATION:Yarrawonga\, Victoria
DESCRIPTION:https://www.bmwmccact.org.au/event-2552351\n\n     For early starters to the 2017 joint BMWMCCACT and BMWMCCVIC Christmas-In-Winter meet there is an optional Lunch-time Cruise on the Paddle Steamer Cumberoona on Saturday from 12pm.\n    The P.S.Cumberoona is a fully restored traditional steam driven paddle boat powered by a red gum fired boiler. The Cumberooma operates on Lake Mulwala and the Murray River.\n    The lunch cruise leaves the Yarrawonga foreshore\, adjacent to the Visitors Centre\, at midday for 1.5 hours. Cruise and lunch cost $28.00 per head\, paid in advance via registration\n    Details of the cruise and paddle steamer are here.\n    Questions?  Please email Social@bmwmccact.org.au  or call the cruise co. on 0477 666 099\n 
DTSTAMP:20260424T170556Z
END:VEVENT
END:VCALENDAR
