BEGIN:VCALENDAR
VERSION:2.0
METHOD:PUBLISH
BEGIN:VEVENT
UID:WILD_APRICOT_EVENT_2550626_SESSION_1
DTSTART:20170520T230000Z
DTEND:20170521T020000Z
SUMMARY:Shannons Canberra Cars\, Bikes n Coffee
LOCATION:Kosciuszko Building at Exhibition Park Canberra
DESCRIPTION:https://www.bmwmccact.org.au/event-2550626\n\nShannons Insurance are hosting a Cars\, Bikes n Coffee event in the Kosciuszko Building at Exhibition Park.\n  This event also happens to coincide with National Motoring Heritage Day\, so all club registered vehicles are welcome to attend.\n  We have a new venue but the format remains the same. Come and go as you please\, this is a casual affair\, a good chance to go for a run in your special vehicle be it car\, bike\, original\, modified\, classic\, modern or otherwise!\n  The Canberra Café Racers will be running a BBQ on the day\, coffee at the EPIC canteen\, a display of rally cars ahead of the National Capital Rally at the end of the month plus a HUGE variety of cars and bikes on display! Follow the signs into the event\, it should be a great morning out!\n  Showing a vehicle? Logistically on the day there will be an entry gate and two exit gates. Please follow marshals instructions and follow instructions regarding parking on the day so we can ensure there is enough room for as many attendees as possible!\n  Free General Entry:   If you want to attend but not display your car there will also be general parking nearby.\n  Need more information: https://www.facebook.com/events/1714551192168635/\n
DTSTAMP:20260424T172529Z
END:VEVENT
END:VCALENDAR
