BEGIN:VCALENDAR
VERSION:2.0
METHOD:PUBLISH
BEGIN:VEVENT
UID:WILD_APRICOT_EVENT_2548691_SESSION_1
DTSTART:20170512T230000Z
DTEND:20170512T230000Z
SUMMARY:MRA ACT Blanket Run (Club Event)
LOCATION:Old Parliament House\, Canberra
DESCRIPTION:https://www.bmwmccact.org.au/event-2548691\n\nThe MRA ACT will be hosting their annual Blanket Run leaving Old Parliament House car park.\n  Bring along your new/quality surplus blankets\, old winter riding gear (sans armour\, good for those sleeping rough) or non-perishable foods for distribution by the Salvo's.\n  Make your own way their\, meet up with friends or other riders from 0830 with breakfast available in the car park for a 1000 ride off and return to OPH.  Need more information then check out the MRAACT flyer.\n
DTSTAMP:20260424T170416Z
END:VEVENT
END:VCALENDAR
