BEGIN:VCALENDAR
VERSION:2.0
METHOD:PUBLISH
BEGIN:VEVENT
UID:WILD_APRICOT_EVENT_2547723_SESSION_1
DTSTART:20170616T223000Z
DTEND:20170618T060000Z
SUMMARY:2017 Christmas-In-Winter\, Joint BMWMCCACT & BMWMCCVIC Meet (Club Event)
LOCATION:Yarrawonga Golf Club Resort\, Yarrawonga Victoria
DESCRIPTION:https://www.bmwmccact.org.au/event-2547723\n\nUPDATED 9 JUNE 2017           The 2017 joint BMWMCCACT and BMW Motorcycle Club of Victoria Christmas-In-Winter dinner is being hosted by BMWMCCVIC at the Yarrawonga Mulwala Golf Club Resort. Just like last year there is also a cruise of Lake Mulwala aboard the PS Cumberoona on the Saturday morning. This event was greatly enjoyed by everyone last year\, register now and encourage your friends for this winter get-away.   \n      The dinner will be held at the Yarrawonga Golf Club Resort and a set Christmas-style menu for $45 per head. You must register and pre-pay for the dinner so that numbers can be advised to the resort.  Please use the online registration form.\n    Details of the Resort can be found here \n    Yarrawonga has plenty of accommodation options and you can start your search here\; Tourist Information\n    There is a shuttle-bus service to and from the Yarrawonga Resort to all the Hotels and Motels in the two towns\, so don't ride\, just call 03 5744 1911 and get the bus.\n    For early starters\, there is a Lunch-time Cruise on the Paddle Steamer Cumberoona on Saturday from 12pm.\n     There is no organised Club group ride to Yarrawonga so make your own respective travel plans.\n    Questions?  Please email  Social@bmwmccact.org.au.\n 
DTSTAMP:20260424T184722Z
END:VEVENT
END:VCALENDAR
