BEGIN:VCALENDAR
VERSION:2.0
METHOD:PUBLISH
BEGIN:VEVENT
UID:WILD_APRICOT_EVENT_2547711_SESSION_1
DTSTART:20170622T093000Z
DTEND:20170622T093000Z
SUMMARY:BMWMCCACT - Chomp & Chat (Club Event)
LOCATION:The Old Canberra Inn\, Mouat St Lyneham
DESCRIPTION:https://www.bmwmccact.org.au/event-2547711\n\nJoin the Club for a social evening and meal at The Old Canberra Inn\, Mouat St Lyneham.  Click for a Google Map here.\n  \n\n  \n\n
DTSTAMP:20260424T172816Z
END:VEVENT
END:VCALENDAR
