BEGIN:VCALENDAR
VERSION:2.0
METHOD:PUBLISH
BEGIN:VEVENT
UID:WILD_APRICOT_EVENT_2540882_SESSION_1
DTSTART:20170924T004500Z
DTEND:20170924T004500Z
SUMMARY:Distinguished Gentleman's Ride (Club Event)
LOCATION:Joe's Motorcycles\, Fyshwick (for a ride around Canberra finishing @ OPH)
DESCRIPTION:https://www.bmwmccact.org.au/event-2540882\n\nUpdated 1 August 2017  \n  \n  \n\n  \n\n  \n\n    Join the Club\, polish your motorcycle and don your finest attire along with fellow men and women across the globe to join the fight with The Distinguished Gentleman’s Ride (DGR) to raise awareness for prostate cancer and men’s mental health. But before we press our tweed and polish our boots\, we need you to donate what you can for this meaningful cause and help us reach our goal.\n  Your Club has a DGR fundraising page where you can donate directly\, sponsor an individual or team or register for the ride here.\n  \n  The Basics\n  Start Time & Place:  09.30am\,  Joe's Motorcycles.\n  Departure Time:   10.45am\n  Regroup Points\n      * Old Parliament House Canberra (photo) \n\n\n        * Red hill (no stopping)\n\n\n   Finish Location Name & Address:  Kingston Hotel. \n  This is the suggested route\, if at any point you feel uncomfortable/unsafe please use an alternative route to the next regroup stage.\n  VIEW ROUTE MAP\n\n  Want more information?  Then check out the Distinguished Gentleman's Ride website.\n
DTSTAMP:20260424T170909Z
END:VEVENT
END:VCALENDAR
