BEGIN:VCALENDAR
VERSION:2.0
METHOD:PUBLISH
BEGIN:VEVENT
UID:WILD_APRICOT_EVENT_2529560_SESSION_1
DTSTART:20170422T003000Z
DTEND:20170422T003000Z
SUMMARY:Saturday Club Ride (Club Event)
LOCATION:Roses Cafe (or main street) Yass NSW
DESCRIPTION:https://www.bmwmccact.org.au/event-2529560\n\nJoin the Club for a Saturday morning 135km ride to Yass for brunch and return.\n  The group departure will be the Stromlo Park Roundabout Wright and on the way to Uiarra Crossing then Mountain Creek Road to Yass and return via Murrumbateman ending at the Sutton Road / Federal Highway intersection.\n  Note: there is 3km of good dirt connecting Uiarra Crossing to Mountain Creek Road and further 3.5km at the end of Dog Trap Road before Murrumbatemen.  Check out the Google Map.\n  Please use the registration form so we know how many to expect or meet the group in Yass (main street) :)\n\n
DTSTAMP:20260424T190257Z
END:VEVENT
END:VCALENDAR
