BEGIN:VCALENDAR
VERSION:2.0
METHOD:PUBLISH
BEGIN:VEVENT
UID:WILD_APRICOT_EVENT_2516376_SESSION_1
DTSTART:20170409T000000Z
DTEND:20170409T000000Z
SUMMARY:Marulan Day Ride (Club Event)
LOCATION:ACT Region
DESCRIPTION:https://www.bmwmccact.org.au/event-2516376\n\nJoin the President & his R100RS for a leisurely :) ride to Marulan for lunch and return via Gunning.\n  Departure is fueled from Red Rooster Queanbeyan and north via Tarago & Oallen Ford\, stop off at the Bungonia Lookdown and ride on to the Terminus Hotel Marulan for lunch.  Return via Grabben Gullen\, Gunning\, Sutton & Watson.  And for those who'd like a Google Map\n\n  Please use the registration form (in case the showers eventuate).\n\n
DTSTAMP:20260424T172223Z
END:VEVENT
END:VCALENDAR
