BEGIN:VCALENDAR
VERSION:2.0
METHOD:PUBLISH
BEGIN:VEVENT
UID:WILD_APRICOT_EVENT_2513125_SESSION_1
DTSTART:20170623T050000Z
DTEND:20170625T020000Z
SUMMARY:32nd Casper Rally\, SCUM Tourers
LOCATION:Bummaroo Ford Camp Ground\, Oberon Road\, NSW
DESCRIPTION:https://www.bmwmccact.org.au/event-2513125\n\n\n     South Coast United Motorcycle (SCUM) Tourers are hosting the 32nd Casper Rally at Bummaroo Ford camping area\, on the banks of the Abercrombie River (Oberon side)\, just along from the crossing. Approx 28kms North of Taralga.\n   Entry includes a badge and raffle ticket.  This is a back to basics rally - bring all your own camping gear & essentials. Supplies available at Goulburn\, Taralga\, or Oberon. Onsite toilets\, water and firewood provided. Raffle draw and awards presentation on Saturday afternoon.\n  For more info contact:\n Andy Price 02 44223096 or\n Dieter Walter 0417616199\n or Facebook\n\n
DTSTAMP:20260424T172214Z
END:VEVENT
END:VCALENDAR
