BEGIN:VCALENDAR
VERSION:2.0
METHOD:PUBLISH
BEGIN:VEVENT
UID:WILD_APRICOT_EVENT_2513115_SESSION_1
DTSTART:20171103T010000Z
DTEND:20171105T040000Z
SUMMARY:23rd Trout Rally\, Tumut Valley Riders
LOCATION:Jounama Creek Campground\, near Talbingo\, Snowy Mountains
DESCRIPTION:https://www.bmwmccact.org.au/event-2513115\n\nUpdated 30 Oct 17\n  Tumut Valley Riders will be hosting their 23rd Trout Rally 23rd at Jounama Creek Campground\, just off the Snowy Mountains Highway.\n  The rally is BYO everything with the nearest supplies Talbingo (5 minutes)\, Tumut 38km or Adaminaby 91km on the Snowy Mountains Highway.\n  The raffle includes freshly caught and smoked trout a highlight of the region and always popular along with other prizes.\n  $15 gets you a rally badge with firewood provided and pit toilets at the site.  Need a Google Map?\n  The President plans on going Saturday morning with a Brindabella (dirt) or snowy mountain Hwy (sealed) route options.  Map here.  If you are intersted email President@bmwmccact.org.au.\n
DTSTAMP:20260424T170726Z
END:VEVENT
END:VCALENDAR
