BEGIN:VCALENDAR
VERSION:2.0
METHOD:PUBLISH
BEGIN:VEVENT
UID:WILD_APRICOT_EVENT_2513057_SESSION_1
DTSTART:20170408T010000Z
DTEND:20170408T030000Z
SUMMARY:Rolfe Classic BMW Motorrad 2017 Model Festival (Club Event)
LOCATION:Rolfe Classic Motorrad\, Botany Street Phillip
DESCRIPTION:https://www.bmwmccact.org.au/event-2513057\n\nOn Saturday the 8th of April\, Rolfe Classic BMW Motorrad will be celebrating the 2017 Model Festival!\n  From 11.00am to 1.00pm the Motorrad sales team will be introducing the new 2017 models\, challenging you with a pop quiz\, rewarding you with a BMW Motorrad door prize and filling you up with some German hotdogs.\n  And Rolfe's is sharing the festival joy\, with all BMW Motorrad bikes sold on the day receiving their first service for free.\n  Contact Michael or Brett in the showroom to book a test ride of your new pride and joy on (02) 6208 4133 or email motorrad@rolfeclassic.com and checkout the website www.rolfeclassicmotorcycles.bmw.com.au.\n
DTSTAMP:20260424T164713Z
END:VEVENT
END:VCALENDAR
