BEGIN:VCALENDAR
VERSION:2.0
METHOD:PUBLISH
BEGIN:VEVENT
UID:WILD_APRICOT_EVENT_2511934_SESSION_1
DTSTART:20170413T230000Z
DTEND:20170417T050000Z
SUMMARY:4 Day Victorian High Country Easter Ride (Club Event)
LOCATION:Victorian High Country and Snowy Mountains
DESCRIPTION:https://www.bmwmccact.org.au/event-2511934\n\nInterested in a 3 or 4 day ride south to Orbost along the Victorian hinterland and back via the Victorian High Country and Snowy Mountains to Wagga Wagga and Canberra?\n  Far Rider and Iron Butt Association riders will be capable of completing the route in a day\, sans coffee stops.  For the rest of us\, a more leisurely timetable will apply.\n\n  This will be a bitumen route with shared Pub/Cabin/Motel accommodation\, subject to the Easter crush.  Plenty of photo stops and relaxed pace.  Use the non-binding registration form to select an option including shared or single accommodation\, noting this may have limited availability.  Costs should be $80pp/night given the time of year.  Tenting can be an option for those so inclined.  Accommodation costs will be shared subject to bookings and confirmed registrants.\n  Google Map Route (TBC).\n
DTSTAMP:20260424T171156Z
END:VEVENT
END:VCALENDAR
