BEGIN:VCALENDAR
VERSION:2.0
METHOD:PUBLISH
BEGIN:VEVENT
UID:WILD_APRICOT_EVENT_2511905_SESSION_1
DTSTART:20170331T010000Z
DTEND:20170402T070000Z
SUMMARY:The Machine Show 2017
LOCATION:Braidwood Showgrounds
DESCRIPTION:https://www.bmwmccact.org.au/event-2511905\n\nThe Machine Show will be an all motorcycles (older than 30 years) show to be held at The Braidwood Showgrounds on the Kings Highway in Braidwood NSW.\n  Entry will be $60 per adult (weekend camp pass) with a $20 surcharge per car to encourage more motorcycles to attend the event. Children under 12 can enter free. Teenagers under 18 will be $40 (weekend camp pass).\n  Day passes will be $20 (adults)\, $10 (teenagers under 18) and children under 12 free.\n  Check the Machine website for details.\n
DTSTAMP:20260424T164212Z
END:VEVENT
END:VCALENDAR
