BEGIN:VCALENDAR
VERSION:2.0
METHOD:PUBLISH
BEGIN:VEVENT
UID:WILD_APRICOT_EVENT_2509484_SESSION_1
DTSTART:20171019T210000Z
DTEND:20171022T060000Z
SUMMARY:Michelin® Australian Motorcycle Grand Prix 2017
LOCATION:Phillip Island\, Victoria
DESCRIPTION:https://www.bmwmccact.org.au/event-2509484\n\n\n  Need general admission\, grandstand or VIP tickets  and /or on track camping for the 2017 Michelin Australian MotoGP?  Then check out the website.\n\n\n
DTSTAMP:20260424T170605Z
END:VEVENT
END:VCALENDAR
