BEGIN:VCALENDAR
VERSION:2.0
METHOD:PUBLISH
BEGIN:VEVENT
UID:WILD_APRICOT_EVENT_2504673_SESSION_1
DTSTART:20170428T020000Z
DTEND:20170430T020000Z
SUMMARY:30th BMWOCSA Biennial Rally (Club Event)
LOCATION:Gladstone Goal\, South Australia
DESCRIPTION:https://www.bmwmccact.org.au/event-2504673\n\nThe BMWOCSA biennial Rally will be held at the Gladstone Gaol\, Gladstone South Australia.\n  Where's Gladstone Goal?\n      * Google Map\n\n        * Gladstone Goal Tourist Information\n\n        * Route Map (inc. overnight at Post Office Hotel Maude)\, subject to change.\n\n\n  Keep up to date by checking the BMWOCSA website for details and rally entry form here.\n
DTSTAMP:20260424T184558Z
END:VEVENT
END:VCALENDAR
