BEGIN:VCALENDAR
VERSION:2.0
METHOD:PUBLISH
BEGIN:VEVENT
UID:WILD_APRICOT_EVENT_2499712_SESSION_1
DTSTART:20170526T220000Z
DTEND:20170528T050000Z
SUMMARY:41st Historic Winton Racing Weekend
LOCATION:Winton Raceway\, Victoria
DESCRIPTION:https://www.bmwmccact.org.au/event-2499712\n\nConducted by the Austin 7 Club Inc with the assistance of the HMRAV at Winton Raceway\, near Benalla Victoria. \n  Historic Winton - Honouring the Past – Australia’s largest and most popular all-historic motor race meeting presents two big days of non-stop racing. The event will feature over 400 historic racing cars and motorbikes from the 1920s to the 1980s plus a huge heritage display of veteran and vintage vehicles.\n  Raceway entry fees:  Sat $30\, Sun $35\, weekend $60\, children 16 and under n/c\, competition paddock $5. Camping at the track: $25/head per night. Camping enquiries: Winton Motor Raceway 03 5760 7100.\n  Check the website for details: www.historicwinton.org\n  \n\n
DTSTAMP:20260424T170314Z
END:VEVENT
END:VCALENDAR
