BEGIN:VCALENDAR
VERSION:2.0
METHOD:PUBLISH
BEGIN:VEVENT
UID:WILD_APRICOT_EVENT_2486895_SESSION_1
DTSTART:20170825T020000Z
DTEND:20170827T050000Z
SUMMARY:AMCA National Meet
LOCATION:Bulli Showgrounds \, South Coast NSW
DESCRIPTION:https://www.bmwmccact.org.au/event-2486895\n\n\n     Fellow Antique\, Vintage and Classic Motorcycle enthusiasts!\n    The AMCA Australia Board is proud to announce our inaugural National Meet\, which will be held on the weekend of 25 -27 August 2017 at the Bulli Show Grounds\, in NSW. \n    After a number of months of assessing appropriate locations and dates\, we are most happy to advise the selection of Bulli\, just 50kms (30 miles) or so\, on the coast south of Sydney.\n    The Venue is appropriate and large enough to accommodate growth in the years ahead as we establish this yearly AMCA Australia National Meet\, to welcome ALL motorcycle makes and models\, parts and memorabilia\, 35 years and older.\n    Check the website https://www.amcaaustralia.org/ for additional detail including a planned auction of historic motorcycles.\n 
DTSTAMP:20260424T170323Z
END:VEVENT
END:VCALENDAR
