BEGIN:VCALENDAR
VERSION:2.0
METHOD:PUBLISH
BEGIN:VEVENT
UID:WILD_APRICOT_EVENT_2483467_SESSION_1
DTSTART:20170818T230000Z
DTEND:20170820T060000Z
SUMMARY:Joint BMWMCCACT and BMWTCNSW Dinner at Bermagui Hotel (Club Event)
LOCATION:Bermagui Hotel\,  South Coast NSW
DESCRIPTION:https://www.bmwmccact.org.au/event-2483467\n\nJoin your Club for a ride to Bermagui on the far south coast or meet us at the Bermagui Beach Hotel for dinner with the BMWTCNSW and possibly BMWMCCVIC.\n  Find your own accommodation and use the registration form to confirm your place at the table.  You pay for your dinner & drinks at the hotel on the night.\n  Group ride departure from BP Benham St Chisholm at 0900 for a ride south and if weather and time are with us a trip up the coast from Tathra.  Sunday return via Batemans Bay and Kings Hwy or (time dependant) Nowra (M92) and Nerriga on Sunday. Route map here.\n
DTSTAMP:20260424T183943Z
END:VEVENT
END:VCALENDAR
