BEGIN:VCALENDAR
VERSION:2.0
METHOD:PUBLISH
BEGIN:VEVENT
UID:WILD_APRICOT_EVENT_2465360_SESSION_1
DTSTART:20170513T020000Z
DTEND:20170514T050000Z
SUMMARY:2017 Loaded Dog Rally (reborn)
LOCATION:Tarago Showground\, Braidwood Rd Tarago NSW
DESCRIPTION:https://www.bmwmccact.org.au/event-2465360\n\n\n  The revived Loaded Dog Rally at Tarago Showgrounds (grass\, fire wood\, showers and toilets) is only 72km from Canberra via sealed roads and fully catered with the Loaded Dog Hotel & Servo 1km down the road.  Prepaid $15 and $20 at the gate\, so why not come along?\n  Make your on way there as a day trip or camp overnight as a new or introduction to rallying?\n  Never been to the Showgrounds at Tarago and need a map?\n
DTSTAMP:20260424T172109Z
END:VEVENT
END:VCALENDAR
