BEGIN:VCALENDAR
VERSION:2.0
METHOD:PUBLISH
BEGIN:VEVENT
UID:WILD_APRICOT_EVENT_2444274_SESSION_1
DTSTART:20171111T210000Z
DTEND:20171112T040000Z
SUMMARY:BMWMCCACT Ride-2-Lunch:  Snowy Mountains Gourmet Food\, Bredbo (Club Event)
LOCATION:Snowy Mountains Gourmet Food Cafe\, Bredbo
DESCRIPTION:https://www.bmwmccact.org.au/event-2444274\n\nSunday Ride\n  Join the Club for a lazy GS ride to Snowy Mountains Gourmet Food Café 31 Cooma Street Bredbo NSW 2626 for brunch.\n  For GS Riders: Our 0800am departure will be Caltex (Woolies) Conder and ride down Bobeyan Road to Shannons Flat and across to Bredbo for brunch.  The return leg will be back via the Tinderries to Captains Flat and Queanbeyan.  Route map here and for those with GPS navigators - here. \n  For TS Riders:  You can sleep in and make your own way there via the Monaro Highway and meet the GS group from ~1030.\n  Please use the registration form so the Club can let the owners [(02) 6454 4200] know how many to expect.\n
DTSTAMP:20260424T170653Z
END:VEVENT
END:VCALENDAR
