BEGIN:VCALENDAR
VERSION:2.0
METHOD:PUBLISH
BEGIN:VEVENT
UID:WILD_APRICOT_EVENT_2444272_SESSION_1
DTSTART:20171007T010000Z
DTEND:20171007T010000Z
SUMMARY:BMWMCCACT Ride-2-Lunch Bushranger Hotel\, Collector (Club Event)
LOCATION:Bushranger Hotel\, Collector
DESCRIPTION:https://www.bmwmccact.org.au/event-2444272\n\nSaturday Ride\n  There are plenty of options to get to Collector and Bushranger Hotel in time for lunch.  Need a Map.  Meet at the hotel for 1200.\n  \n\n
DTSTAMP:20260424T170350Z
END:VEVENT
END:VCALENDAR
