BEGIN:VCALENDAR
VERSION:2.0
METHOD:PUBLISH
BEGIN:VEVENT
UID:WILD_APRICOT_EVENT_2444271_SESSION_1
DTSTART:20170805T003000Z
DTEND:20170805T003000Z
SUMMARY:BMWMCCACT Ride-2-Lunch at Gunning (Club Event)
LOCATION:Merino Cafe\, Gunning.
DESCRIPTION:https://www.bmwmccact.org.au/event-2444271\n\nSaturday Ride\n  Join the Club for a ride to lunch at the Merino Cafe\, Gunning.  Group ride will depart from Macca's carpark\, Gold Creek at 10:30am.\n  If the group prefers\, we can dine at the Telegraph Hotel\, next door. Please come fuelled and ready to go there is a Caltex servo next to Macca's.\n  Please use the non-binding registration form to assist with organisation and venue planning.\n\n
DTSTAMP:20260424T184532Z
END:VEVENT
END:VCALENDAR
