BEGIN:VCALENDAR
VERSION:2.0
METHOD:PUBLISH
BEGIN:VEVENT
UID:WILD_APRICOT_EVENT_2444267_SESSION_1
DTSTART:20170630T230000Z
DTEND:20170630T230000Z
SUMMARY:BMWMCCACT Ride-2-Brunch: Riverbank Cafe Queanbeyan (Club Event)
LOCATION:Riverbank (Cafe) Queanbeyan
DESCRIPTION:https://www.bmwmccact.org.au/event-2444267\n\nSaturday Ride\n  Join the Club for brunch at the Riverbank Queanbeyan (cafe)\, 6 Trinculo Pl\, Queanbeyan NSW.\n  Following brunch those so inclined will go on a ride after\, with a route to be agreed on the day.\n  Please come bike fueled and ready if you are thinking of going on the ride after brunch and use the non-binding registration as this helps the ride coordinator and venue in staff and seat planning.\n
DTSTAMP:20260424T190307Z
END:VEVENT
END:VCALENDAR
