BEGIN:VCALENDAR
VERSION:2.0
METHOD:PUBLISH
BEGIN:VEVENT
UID:WILD_APRICOT_EVENT_2444266_SESSION_1
DTSTART:20170603T230000Z
DTEND:20170603T230000Z
SUMMARY:BMWMCCACT Ride-2-Breakfast\, Moon Rock Cafe\, Canberra Deep Space Communication Complex (Club Event)
LOCATION:Moon Rock Cafe\, CDSCC
DESCRIPTION:https://www.bmwmccact.org.au/event-2444266\n\nSunday Ride\n  Join the Club for breakfast at the Moon Rock Café Canberra Deep Space Communication Complex.\n  Make your own way there noting the Visitor Centre and Café does not open until 0900.\n  Please use the non-binding registration form to assist with organisation and venue planning.\n
DTSTAMP:20260424T184025Z
END:VEVENT
END:VCALENDAR
