BEGIN:VCALENDAR
VERSION:2.0
METHOD:PUBLISH
BEGIN:VEVENT
UID:WILD_APRICOT_EVENT_2444265_SESSION_1
DTSTART:20170506T000000Z
DTEND:20170506T050000Z
SUMMARY:BMWMCCACT Ride-2-Lunch\, Bowning Hotel Bowning (Club Event)
LOCATION:Bowning Hotel\, Bowning
DESCRIPTION:https://www.bmwmccact.org.au/event-2444265\n\nSaturday Ride\n  Join the Club for a ride and lunch at the Bowning Hotel\, Bowning.\n  The group departure will be the Catex Servo\, O'Hanlon Crescent Gold Creek. Please come prepared and bike fueled ready to go at 1000 and remember to use the non-binding registration form to assist with organisation and venue planning.\n
DTSTAMP:20260424T184229Z
END:VEVENT
END:VCALENDAR
