BEGIN:VCALENDAR
VERSION:2.0
METHOD:PUBLISH
BEGIN:VEVENT
UID:WILD_APRICOT_EVENT_2444234_SESSION_1
DTSTART:20170313T130000Z
DTEND:20170314T130000Z
SUMMARY:BMWMCCACT Committee Meeting - March 2017
LOCATION:Notification Only
DESCRIPTION:https://www.bmwmccact.org.au/event-2444234\n\nThe March 2017 General Meeting is combined with the 2017 BMWMCCACT Inc. Annual General Meeting (Club Event).\n
DTSTAMP:20260424T164615Z
END:VEVENT
END:VCALENDAR
