BEGIN:VCALENDAR
VERSION:2.0
METHOD:PUBLISH
BEGIN:VEVENT
UID:WILD_APRICOT_EVENT_2442766_SESSION_1
DTSTART:20170310T010000Z
DTEND:20170313T010000Z
SUMMARY:32nd Cold Flame Rally\, Monarchs MCC (Club Event)
LOCATION:Pinch River Campground\, Barry Way (72km south of Jindabyne)
DESCRIPTION:https://www.bmwmccact.org.au/event-2442766\n\nJoin the Club for a 3 day GS ride (although road bikes go to this rally as well) to the 32nd Cold Flame Rally at the Pinch River on the Barry Way within Kosciuszko National Park.  For $20 you get a badge and stubby holder with proceeds to Beyond Blue & Lifeline.  This is a back to basics rally with toilets\, firewood (scavenge) and creek water available only.\n  Saturday 11:  Conder\, Bobeyan Road\, Berridale\, Jindabyne (lunch)\, Pinch River\, 72km south of Jindabyne.\n  Sunday 12:  Ride south to McKillops Bridge then back north to Delegate Hotel (02) 6458 8091.  Accommodations $60pp includes a meal\, note: Sunday meals are dependant on numbers booked.\n  Monday 13:  Ride east of the Monaro Hwy to Captains Flat (lunch) and home to Canberra. Route Map.\n  MotoGoLoco Map https://www.motogoloco.com/map?route=17185\n\n
DTSTAMP:20260424T164110Z
END:VEVENT
END:VCALENDAR
