BEGIN:VCALENDAR
VERSION:2.0
METHOD:PUBLISH
BEGIN:VEVENT
UID:WILD_APRICOT_EVENT_2433552_SESSION_1
DTSTART:20171008T010000Z
DTEND:20171013T070000Z
SUMMARY:2017 BMW GS / TS SAFARI\, Perth - Western Australia (Club Event)
LOCATION:Perth Western Australia
DESCRIPTION:https://www.bmwmccact.org.au/event-2433552\n\nIn the 23 years of BMW Safari it has never ventured to the West. Now in 2017 this will change with the first ever west coast BMW Safari. The general concept is that we run both the TS and GS ride in tandem finishing each night in the same town. A little bit of nostalgia as this is how the Safari was initial run between 1994 and 2004.\n  More details will be released shortly. Please keep an eye out for updates to the website or subscribe to BMW Safari News from the home page https://bmwsafari.com/events/bmw-2017-gsts-safari-wa/\n\n  YOU MUST register with BMW for this event and listed here for members information only.\n   \n
DTSTAMP:20260424T170236Z
END:VEVENT
END:VCALENDAR
