BEGIN:VCALENDAR
VERSION:2.0
METHOD:PUBLISH
BEGIN:VEVENT
UID:WILD_APRICOT_EVENT_2430231_SESSION_1
DTSTART:20170401T223000Z
DTEND:20170401T223000Z
SUMMARY:BMWMCCACT Ride-2-Breakfast (Notice Only)
LOCATION:See What's On and Club
DESCRIPTION:https://www.bmwmccact.org.au/event-2430231\n\nWhy not go along to the 2017 BMWMCCACT Inc. Annual General Meeting (Club Event) on 1 April 2017 (day before) instead?\n
DTSTAMP:20260424T181436Z
END:VEVENT
END:VCALENDAR
