BEGIN:VCALENDAR
VERSION:2.0
METHOD:PUBLISH
BEGIN:VEVENT
UID:WILD_APRICOT_EVENT_2430224_SESSION_1
DTSTART:20170303T220000Z
DTEND:20170304T040000Z
SUMMARY:BMWMCCACT Ride-2-Lunch
LOCATION:Sir George Hotel\, Jugiong
DESCRIPTION:https://www.bmwmccact.org.au/event-2430224\n\nNote this is Saturday\n  Join the Club for a ride to lunch at the refurbished and opened Sir George Hotel at Jugiong.\n  \n  The group ride will leave 0900 from the Hal layby for a scenic route south.  Please come prepared with bike fuelled and ready to go and use the non-binding registration form to assist with organisation and venue planning.\n
DTSTAMP:20260424T163921Z
END:VEVENT
END:VCALENDAR
