BEGIN:VCALENDAR
VERSION:2.0
METHOD:PUBLISH
BEGIN:VEVENT
UID:WILD_APRICOT_EVENT_2430216_SESSION_1
DTSTART:20170204T210000Z
DTEND:20170205T050000Z
SUMMARY:GS Ride to Breakfast\, Snowy Mountains Gourmet Food (Club Event)
LOCATION:Bredbo\, NSW
DESCRIPTION:https://www.bmwmccact.org.au/event-2430216\n\nJoin the Club for a lazy GS ride to Snowy Mountains Gourmet Food Café 31 Cooma Street Bredbo NSW 2626 for brunch.\n  For GS Riders: our 0800am departure will be Caltex (Woolies) Conder and ride down Bobeyan Road to Shannons Flat and across to Bredbo for brunch.  The return leg will be back via the Tinderries to Captains Flat and Queanbeyan.  Route map here and for those with GPS navigators - here.\n  For TS Riders:  You can sleep in and leave ~1000+ for a straight if uninspiring ride down the Monaro Highway to meet us at 1030.\nUpdate 2 Feb 17  With no registrant or volunteer TS ride leader\, for those planning on coming down the Monaro Hwy make your own way to Bredbo to join the GS group.Please use the registration form so the Club can let the owners [(02) 6454 4200] know how many to expect.\n
DTSTAMP:20260424T164730Z
END:VEVENT
END:VCALENDAR
