BEGIN:VCALENDAR
VERSION:2.0
METHOD:PUBLISH
BEGIN:VEVENT
UID:WILD_APRICOT_EVENT_2407240_SESSION_1
DTSTART:20170210T040000Z
DTEND:20170212T040000Z
SUMMARY:Adventure Travel Film Festival
LOCATION:Bright Victoria
DESCRIPTION:https://www.bmwmccact.org.au/event-2407240\n\n\n  The Australian Adventure Film Festival is on again from February 10 to 12\, so lock in the date and come along for a great weekend.\n  As usual it will be held in beautiful Bright in north east Victoria\, and another great line up of guest speakers and entertaining adventure films will be screened.\n  For more details\, or to book tickets\, head to:  http://www.adventuretravelfilmfestival.com/australian-festival/.\n
DTSTAMP:20260424T164151Z
END:VEVENT
END:VCALENDAR
