BEGIN:VCALENDAR
VERSION:2.0
METHOD:PUBLISH
BEGIN:VEVENT
UID:WILD_APRICOT_EVENT_2400259_SESSION_1
DTSTART:20170929T233000Z
DTEND:20170930T003000Z
SUMMARY:BMWMCCACT September Monthly General Meeting (Club Event) [& AFL Grand Final]
LOCATION:Little Brother Cafe\, Red Hill
DESCRIPTION:https://www.bmwmccact.org.au/event-2400259\n\nThe September Club monthly meeting will be at the Little Brother Cafe Red Hill (as it is AFL Grand Final Day) & for those that need directions a map\,\n  If you are planning on or thinking of coming to this meeting please register as seating is limited and without pre-member or visitor registration no table booking will be made.\n  For those enthused or not intersted in AFL a ride may be organised on the day for after the meeting.\n
DTSTAMP:20260424T173025Z
END:VEVENT
END:VCALENDAR
