BEGIN:VCALENDAR
VERSION:2.0
METHOD:PUBLISH
BEGIN:VEVENT
UID:WILD_APRICOT_EVENT_2400257_SESSION_1
DTSTART:20170625T010000Z
DTEND:20170625T010000Z
SUMMARY:BMWMCCACT June Monthly General Meeting (Club Event)
LOCATION:Book Plate Cafe\, National Library of Australia
DESCRIPTION:https://www.bmwmccact.org.au/event-2400257\n\nAn informal monthly club meeting will be held at the Book Plate Cafe\, National Library of Australia (subject to weather and crowds\, on the outside deck).  If you need a map click here.\n  Please register if your planning on going to assist the TBA convenor as the President is rallying.\n
DTSTAMP:20260424T170226Z
END:VEVENT
END:VCALENDAR
