BEGIN:VCALENDAR
VERSION:2.0
METHOD:PUBLISH
BEGIN:VEVENT
UID:WILD_APRICOT_EVENT_2398083_SESSION_1
DTSTART:20170414T220000Z
DTEND:20170416T070000Z
SUMMARY:Motorcycling Australia Broadford Bonanza - All Things Ducati
LOCATION:Victorian State Motorcycle Sports Complex\, Broadford Victoria
DESCRIPTION:https://www.bmwmccact.org.au/event-2398083\n\nAs the themed Bonanza tradition continues\, 2017 will be the celebration of all things Ducati.  Shannons Insurance is the major sponsor and weekend that will feature a wonderful and eclectic mix of machines from bygone eras.\n  For information\, entry and camping tickets check out the MA website\n
DTSTAMP:20260424T171318Z
END:VEVENT
END:VCALENDAR
