BEGIN:VCALENDAR
VERSION:2.0
METHOD:PUBLISH
BEGIN:VEVENT
UID:WILD_APRICOT_EVENT_2398071_SESSION_1
DTSTART:20170430T000000Z
DTEND:20170430T000000Z
SUMMARY:BMWMCCACT April Monthly General Meeting (Club Event)
LOCATION:The Museum Cafe\, National Museum of Australia
DESCRIPTION:https://www.bmwmccact.org.au/event-2398071\n\n\n  The April Club General Meeting will be held on the outside deck (weather permitting) of The Museum Cafe located within the National Museum of Australia and can be accessed from the main foyer or from outside (lakeside).\n  For those that want them Google Map directions.\n\n
DTSTAMP:20260424T170250Z
END:VEVENT
END:VCALENDAR
